BEGIN:VCALENDAR
VERSION:2.0
PRODID:-//time.now/holidays//NONSGML v1.0//EN
BEGIN:VEVENT
UID:8a518d6e-31bb-4da6-b814-f96c75faecc1
DTSTAMP:20260420T113229Z
DTSTART;VALUE=DATE:20260320
SUMMARY:Orozo Ait (estimated) (Kirghizistan)
END:VEVENT
END:VCALENDAR