BEGIN:VCALENDAR
VERSION:2.0
PRODID:-//time.now/holidays//NONSGML v1.0//EN
BEGIN:VEVENT
UID:7d7722fe-298c-4147-a30a-ce3043e294f6
DTSTAMP:20260422T104039Z
DTSTART;VALUE=DATE:20260321
SUMMARY:Nooruz Mairamy; Orozo Ait (estimated) (Kirghizistan)
END:VEVENT
END:VCALENDAR