BEGIN:VCALENDAR
VERSION:2.0
PRODID:-//time.now/holidays//NONSGML v1.0//EN
BEGIN:VEVENT
UID:35e08d24-4525-4edc-8286-8456815dfd24
DTSTAMP:20260422T091325Z
DTSTART;VALUE=DATE:20260308
SUMMARY:International Women's Day (Kirghizistan)
END:VEVENT
END:VCALENDAR