BEGIN:VCALENDAR
VERSION:2.0
PRODID:-//time.now/holidays//NONSGML v1.0//EN
BEGIN:VEVENT
UID:6cff07d5-9527-4e58-aaf7-ee36bfa5a326
DTSTAMP:20260422T193109Z
DTSTART;VALUE=DATE:20260831
SUMMARY:Independence Day (Kirghizistan)
END:VEVENT
END:VCALENDAR