BEGIN:VCALENDAR
VERSION:2.0
PRODID:-//time.now/holidays//NONSGML v1.0//EN
BEGIN:VEVENT
UID:4b485aa8-2dea-4308-9aa2-145d51026956
DTSTAMP:20260421T011316Z
DTSTART;VALUE=DATE:20261107
SUMMARY:Days of History and Commemoration of Ancestors (Kirghizistan)
END:VEVENT
END:VCALENDAR