BEGIN:VCALENDAR
VERSION:2.0
PRODID:-//time.now/holidays//NONSGML v1.0//EN
BEGIN:VEVENT
UID:232082cd-77d5-4b5c-87de-0bee3585c6e8
DTSTAMP:20260422T105916Z
DTSTART;VALUE=DATE:20260407
SUMMARY:Day of the People's April Revolution (Kirghizistan)
END:VEVENT
END:VCALENDAR