BEGIN:VCALENDAR
VERSION:2.0
PRODID:-//time.now/holidays//NONSGML v1.0//EN
BEGIN:VEVENT
UID:e1a50c8c-bbfc-4f93-a92c-3d665c1766a1
DTSTAMP:20260420T203842Z
DTSTART;VALUE=DATE:20260107
SUMMARY:Christmas Day (Kirghizistan)
END:VEVENT
END:VCALENDAR