BEGIN:VCALENDAR
VERSION:2.0
PRODID:-//time.now/holidays//NONSGML v1.0//EN
BEGIN:VEVENT
UID:7e989113-051c-499a-ad85-cc9fb7138fa8
DTSTAMP:20260420T161947Z
DTSTART;VALUE=DATE:20260616
SUMMARY:Islamic New Year (estimated) (Koweït)
END:VEVENT
END:VCALENDAR