BEGIN:VCALENDAR
VERSION:2.0
PRODID:-//time.now/holidays//NONSGML v1.0//EN
BEGIN:VEVENT
UID:71f179ee-7e85-4ce3-a81e-5d1893a4cd9c
DTSTAMP:20260420T125058Z
DTSTART;VALUE=DATE:20260101
SUMMARY:New Year's Day (Kenya)
END:VEVENT
END:VCALENDAR