BEGIN:VCALENDAR
VERSION:2.0
PRODID:-//time.now/holidays//NONSGML v1.0//EN
BEGIN:VEVENT
UID:3270dd45-9505-44a5-8a3f-04f5aa4c90b7
DTSTAMP:20260420T151536Z
DTSTART;VALUE=DATE:20201010
SUMMARY:Moi Day (Kenya)
END:VEVENT
END:VCALENDAR