BEGIN:VCALENDAR
VERSION:2.0
PRODID:-//time.now/holidays//NONSGML v1.0//EN
BEGIN:VEVENT
UID:79d348fd-cb43-48ae-8607-18ebdc61804e
DTSTAMP:20260420T173612Z
DTSTART;VALUE=DATE:20271011
SUMMARY:Mazingira Day (observed) (Kenya)
END:VEVENT
END:VCALENDAR