BEGIN:VCALENDAR
VERSION:2.0
PRODID:-//time.now/holidays//NONSGML v1.0//EN
BEGIN:VEVENT
UID:4cadbe8f-f2ab-4c6b-bb57-d464e2f9006c
DTSTAMP:20260420T063626Z
DTSTART;VALUE=DATE:20261212
SUMMARY:Jamhuri Day (Kenya)
END:VEVENT
END:VCALENDAR