BEGIN:VCALENDAR
VERSION:2.0
PRODID:-//time.now/holidays//NONSGML v1.0//EN
BEGIN:VEVENT
UID:bfd278bb-065f-4672-bb43-0467c823d592
DTSTAMP:20260420T031322Z
DTSTART;VALUE=DATE:20220809
SUMMARY:Election Day (Kenya)
END:VEVENT
END:VCALENDAR