BEGIN:VCALENDAR
VERSION:2.0
PRODID:-//time.now/holidays//NONSGML v1.0//EN
BEGIN:VEVENT
UID:da39cfce-f9cf-49ba-8f4d-2841f3dce5f7
DTSTAMP:20260420T154158Z
DTSTART;VALUE=DATE:20240410
SUMMARY:Eid-al-Fitr (Kenya)
END:VEVENT
END:VCALENDAR