BEGIN:VCALENDAR
VERSION:2.0
PRODID:-//time.now/holidays//NONSGML v1.0//EN
BEGIN:VEVENT
UID:0bd1d63f-f91a-451c-b525-a0dfea33c9e5
DTSTAMP:20260420T111320Z
DTSTART;VALUE=DATE:20261225
SUMMARY:Christmas Day (Kenya)
END:VEVENT
END:VCALENDAR