BEGIN:VCALENDAR
VERSION:2.0
PRODID:-//time.now/holidays//NONSGML v1.0//EN
BEGIN:VEVENT
UID:ec8dadc5-3796-482d-aa18-61193cce0f9c
DTSTAMP:20260420T064332Z
DTSTART;VALUE=DATE:20261226
SUMMARY:Boxing Day (Kenya)
END:VEVENT
END:VCALENDAR