BEGIN:VCALENDAR
VERSION:2.0
PRODID:-//time.now/holidays//NONSGML v1.0//EN
BEGIN:VEVENT
UID:a658daef-6815-45c4-8165-39c9179257b9
DTSTAMP:20260420T182157Z
DTSTART;VALUE=DATE:20260511
SUMMARY:Victory Day (observed) (Kazakhstan)
END:VEVENT
END:VCALENDAR