BEGIN:VCALENDAR
VERSION:2.0
PRODID:-//time.now/holidays//NONSGML v1.0//EN
BEGIN:VEVENT
UID:db685719-4013-45de-a09c-ee6213920c82
DTSTAMP:20260420T173208Z
DTSTART;VALUE=DATE:20261026
SUMMARY:Republic Day (observed) (Kazakhstan)
END:VEVENT
END:VCALENDAR