BEGIN:VCALENDAR
VERSION:2.0
PRODID:-//time.now/holidays//NONSGML v1.0//EN
BEGIN:VEVENT
UID:bf7b1e47-9365-4f09-822a-80f1a4c88c76
DTSTAMP:20260422T085751Z
DTSTART;VALUE=DATE:20260308
SUMMARY:International Women's Day (Kazakhstan)
END:VEVENT
END:VCALENDAR