BEGIN:VCALENDAR
VERSION:2.0
PRODID:-//time.now/holidays//NONSGML v1.0//EN
BEGIN:VEVENT
UID:63891ca2-acf9-4776-a0dc-78d03e531e0f
DTSTAMP:20260422T091339Z
DTSTART;VALUE=DATE:20260309
SUMMARY:International Women's Day (observed) (Kazakhstan)
END:VEVENT
END:VCALENDAR