BEGIN:VCALENDAR
VERSION:2.0
PRODID:-//time.now/holidays//NONSGML v1.0//EN
BEGIN:VEVENT
UID:67cd6359-c670-4bfa-aa91-cbb06d65a0d6
DTSTAMP:20260420T162056Z
DTSTART;VALUE=DATE:20281218
SUMMARY:Independence Day (observed) (Kazakhstan)
END:VEVENT
END:VCALENDAR