BEGIN:VCALENDAR
VERSION:2.0
PRODID:-//time.now/holidays//NONSGML v1.0//EN
BEGIN:VEVENT
UID:752b4971-1071-4951-a901-c98ea4b946d3
DTSTAMP:20260420T094907Z
DTSTART;VALUE=DATE:20211201
SUMMARY:First President Day (Kazakhstan)
END:VEVENT
END:VCALENDAR