BEGIN:VCALENDAR
VERSION:2.0
PRODID:-//time.now/holidays//NONSGML v1.0//EN
BEGIN:VEVENT
UID:3f644713-7e96-49e8-8579-29d5256336b0
DTSTAMP:20260420T174314Z
DTSTART;VALUE=DATE:20260527
SUMMARY:Eid al-Adha (estimated) (Kazakhstan)
END:VEVENT
END:VCALENDAR