BEGIN:VCALENDAR
VERSION:2.0
PRODID:-//time.now/holidays//NONSGML v1.0//EN
BEGIN:VEVENT
UID:7ce5f9bc-66b1-4500-b5b8-40991755deb5
DTSTAMP:20260422T193240Z
DTSTART;VALUE=DATE:20240508
SUMMARY:Day off (substituted from 05/04/2024) (Kazakhstan)
END:VEVENT
END:VCALENDAR