BEGIN:VCALENDAR
VERSION:2.0
PRODID:-//time.now/holidays//NONSGML v1.0//EN
BEGIN:VEVENT
UID:a9645563-841b-4960-96d9-f29174c61e9a
DTSTAMP:20260420T061714Z
DTSTART;VALUE=DATE:20260525
SUMMARY:Independence Day (Jordanie)
END:VEVENT
END:VCALENDAR