BEGIN:VCALENDAR
VERSION:2.0
PRODID:-//time.now/holidays//NONSGML v1.0//EN
BEGIN:VEVENT
UID:852c7aed-c417-4a2a-8346-858616ed66a3
DTSTAMP:20260420T215309Z
DTSTART;VALUE=DATE:20280525
SUMMARY:Independence Day; Islamic New Year (estimated) (Jordanie)
END:VEVENT
END:VCALENDAR