BEGIN:VCALENDAR
VERSION:2.0
PRODID:-//time.now/holidays//NONSGML v1.0//EN
BEGIN:VEVENT
UID:5dca096f-3830-4144-ad9a-0105935e5374
DTSTAMP:20260422T084250Z
DTSTART;VALUE=DATE:20260321
SUMMARY:Eid al-Fitr Holiday (estimated) (Jordanie)
END:VEVENT
END:VCALENDAR