BEGIN:VCALENDAR
VERSION:2.0
PRODID:-//time.now/holidays//NONSGML v1.0//EN
BEGIN:VEVENT
UID:93c29c21-6e57-4801-85ba-c460d3f3eb7b
DTSTAMP:20260420T195917Z
DTSTART;VALUE=DATE:20260831
SUMMARY:Summer Bank Holiday (Jersey)
END:VEVENT
END:VCALENDAR