BEGIN:VCALENDAR
VERSION:2.0
PRODID:-//time.now/holidays//NONSGML v1.0//EN
BEGIN:VEVENT
UID:f3929fe2-e8e9-4157-9270-557252f80a5b
DTSTAMP:20260420T134927Z
DTSTART;VALUE=DATE:20260525
SUMMARY:Spring Bank Holiday (Jersey)
END:VEVENT
END:VCALENDAR