BEGIN:VCALENDAR
VERSION:2.0
PRODID:-//time.now/holidays//NONSGML v1.0//EN
BEGIN:VEVENT
UID:6ac49932-e8cf-455a-995a-584a03598a6c
DTSTAMP:20260422T103920Z
DTSTART;VALUE=DATE:20220919
SUMMARY:Funeral of Her Majesty Queen Elizabeth II (Jersey)
END:VEVENT
END:VCALENDAR