BEGIN:VCALENDAR
VERSION:2.0
PRODID:-//time.now/holidays//NONSGML v1.0//EN
BEGIN:VEVENT
UID:de761842-379a-4bc2-b17c-40325add1df8
DTSTAMP:20260422T193239Z
DTSTART;VALUE=DATE:20261019
SUMMARY:National Heroes Day (Jamaïque)
END:VEVENT
END:VCALENDAR