BEGIN:VCALENDAR
VERSION:2.0
PRODID:-//time.now/holidays//NONSGML v1.0//EN
BEGIN:VEVENT
UID:8ba193eb-9706-48fb-959e-16ce8b8b0575
DTSTAMP:20260420T141907Z
DTSTART;VALUE=DATE:20260806
SUMMARY:Independence Day (Jamaïque)
END:VEVENT
END:VCALENDAR