BEGIN:VCALENDAR
VERSION:2.0
PRODID:-//time.now/holidays//NONSGML v1.0//EN
BEGIN:VEVENT
UID:f962d8cb-ff5e-4e23-9884-f139143419e1
DTSTAMP:20260420T114225Z
DTSTART;VALUE=DATE:20260403
SUMMARY:Good Friday (Jamaïque)
END:VEVENT
END:VCALENDAR