BEGIN:VCALENDAR
VERSION:2.0
PRODID:-//time.now/holidays//NONSGML v1.0//EN
BEGIN:VEVENT
UID:258e815b-f8d0-4917-9541-c9bdfe8e49b3
DTSTAMP:20260420T152231Z
DTSTART;VALUE=DATE:20270802
SUMMARY:Emancipation Day (observed) (Jamaïque)
END:VEVENT
END:VCALENDAR