BEGIN:VCALENDAR
VERSION:2.0
PRODID:-//time.now/holidays//NONSGML v1.0//EN
BEGIN:VEVENT
UID:4361dc78-6ff9-41f3-8588-0d69e8c683ea
DTSTAMP:20260420T192442Z
DTSTART;VALUE=DATE:20261225
SUMMARY:Christmas Day (Jamaïque)
END:VEVENT
END:VCALENDAR