BEGIN:VCALENDAR
VERSION:2.0
PRODID:-//time.now/holidays//NONSGML v1.0//EN
BEGIN:VEVENT
UID:18467e7f-153c-4e26-87a9-0a0d04616b7c
DTSTAMP:20260420T112418Z
DTSTART;VALUE=DATE:20261226
SUMMARY:Santo Stefano (Italie)
END:VEVENT
END:VCALENDAR