BEGIN:VCALENDAR
VERSION:2.0
PRODID:-//time.now/holidays//NONSGML v1.0//EN
BEGIN:VEVENT
UID:bc4e7555-1706-4a8c-a95a-2062993901bf
DTSTAMP:20260420T215500Z
DTSTART;VALUE=DATE:20260215
SUMMARY:Santi Faustino e Giovita (Italie)
END:VEVENT
END:VCALENDAR