BEGIN:VCALENDAR
VERSION:2.0
PRODID:-//time.now/holidays//NONSGML v1.0//EN
BEGIN:VEVENT
UID:cccd0fed-08e6-427f-8b67-f14e28b45a53
DTSTAMP:20260422T134407Z
DTSTART;VALUE=DATE:20260712
SUMMARY:Santi Ermacora e Fortunato (Italie)
END:VEVENT
END:VCALENDAR