BEGIN:VCALENDAR
VERSION:2.0
PRODID:-//time.now/holidays//NONSGML v1.0//EN
BEGIN:VEVENT
UID:e887f76d-f6cd-47d0-b53b-71dfa25f5d2d
DTSTAMP:20260420T114224Z
DTSTART;VALUE=DATE:20260213
SUMMARY:Sant'Archelao (Italie)
END:VEVENT
END:VCALENDAR