BEGIN:VCALENDAR
VERSION:2.0
PRODID:-//time.now/holidays//NONSGML v1.0//EN
BEGIN:VEVENT
UID:011daf3d-1653-447b-89f7-53386f9f69ff
DTSTAMP:20260420T214156Z
DTSTART;VALUE=DATE:20260807
SUMMARY:Sant'Alberto degli Abati (Italie)
END:VEVENT
END:VCALENDAR