BEGIN:VCALENDAR
VERSION:2.0
PRODID:-//time.now/holidays//NONSGML v1.0//EN
BEGIN:VEVENT
UID:66bc4fe5-41b2-46fb-9315-21848e704ea0
DTSTAMP:20260420T100918Z
DTSTART;VALUE=DATE:20260205
SUMMARY:Sant'Agata (Italie)
END:VEVENT
END:VCALENDAR