BEGIN:VCALENDAR
VERSION:2.0
PRODID:-//time.now/holidays//NONSGML v1.0//EN
BEGIN:VEVENT
UID:35e6fc3b-0b10-4e91-98c7-5e146dcabe24
DTSTAMP:20260422T193209Z
DTSTART;VALUE=DATE:20260904
SUMMARY:Santa Rosa da Viterbo (Italie)
END:VEVENT
END:VCALENDAR