BEGIN:VCALENDAR
VERSION:2.0
PRODID:-//time.now/holidays//NONSGML v1.0//EN
BEGIN:VEVENT
UID:ab228e8b-f4cb-45d0-9aa9-39a31daf0e3b
DTSTAMP:20260420T094644Z
DTSTART;VALUE=DATE:20260522
SUMMARY:Santa Giulia (Italie)
END:VEVENT
END:VCALENDAR