BEGIN:VCALENDAR
VERSION:2.0
PRODID:-//time.now/holidays//NONSGML v1.0//EN
BEGIN:VEVENT
UID:e8aac1e8-8048-4fe3-a546-72cb7020dae4
DTSTAMP:20260420T192854Z
DTSTART;VALUE=DATE:20260811
SUMMARY:Santa Chiara d'Assisi (Italie)
END:VEVENT
END:VCALENDAR