BEGIN:VCALENDAR
VERSION:2.0
PRODID:-//time.now/holidays//NONSGML v1.0//EN
BEGIN:VEVENT
UID:b9db6c2f-8c61-4bd8-bdcf-840ca7c458d3
DTSTAMP:20260420T174548Z
DTSTART;VALUE=DATE:20260521
SUMMARY:San Zeno (Italie)
END:VEVENT
END:VCALENDAR