BEGIN:VCALENDAR
VERSION:2.0
PRODID:-//time.now/holidays//NONSGML v1.0//EN
BEGIN:VEVENT
UID:e80f7cfc-8b5f-4ee4-9068-eee1a8da780f
DTSTAMP:20260420T213247Z
DTSTART;VALUE=DATE:20260716
SUMMARY:San Vitaliano (Italie)
END:VEVENT
END:VCALENDAR