BEGIN:VCALENDAR
VERSION:2.0
PRODID:-//time.now/holidays//NONSGML v1.0//EN
BEGIN:VEVENT
UID:5b9eb143-a781-4d38-b18f-92a10922ccc5
DTSTAMP:20260422T155549Z
DTSTART;VALUE=DATE:20260505
SUMMARY:San Secondo di Asti (Italie)
END:VEVENT
END:VCALENDAR