BEGIN:VCALENDAR
VERSION:2.0
PRODID:-//time.now/holidays//NONSGML v1.0//EN
BEGIN:VEVENT
UID:d4804423-cad0-45a3-adb3-0de8853bd423
DTSTAMP:20260420T231743Z
DTSTART;VALUE=DATE:20260503
SUMMARY:San Nicola Pellegrino (Italie)
END:VEVENT
END:VCALENDAR