BEGIN:VCALENDAR
VERSION:2.0
PRODID:-//time.now/holidays//NONSGML v1.0//EN
BEGIN:VEVENT
UID:28c45f97-0222-4d9a-8cbd-01b8af28c007
DTSTAMP:20260420T183638Z
DTSTART;VALUE=DATE:20260427
SUMMARY:San Liberale (Italie)
END:VEVENT
END:VCALENDAR