BEGIN:VCALENDAR
VERSION:2.0
PRODID:-//time.now/holidays//NONSGML v1.0//EN
BEGIN:VEVENT
UID:04dd31c6-2e3e-4fd4-874b-ed55f69d0748
DTSTAMP:20260422T091344Z
DTSTART;VALUE=DATE:20261126
SUMMARY:San Leonardo da Porto Maurizio (Italie)
END:VEVENT
END:VCALENDAR